BEGIN:VCALENDAR
VERSION:2.0
PRODID:-//Colorado Space Business Roundtable - ECPv6.15.20//NONSGML v1.0//EN
CALSCALE:GREGORIAN
METHOD:PUBLISH
X-WR-CALNAME:Colorado Space Business Roundtable
X-ORIGINAL-URL:https://coloradosbr.org
X-WR-CALDESC:Events for Colorado Space Business Roundtable
REFRESH-INTERVAL;VALUE=DURATION:PT1H
X-Robots-Tag:noindex
X-PUBLISHED-TTL:PT1H
BEGIN:VTIMEZONE
TZID:America/Denver
BEGIN:DAYLIGHT
TZOFFSETFROM:-0700
TZOFFSETTO:-0600
TZNAME:MDT
DTSTART:20250309T090000
END:DAYLIGHT
BEGIN:STANDARD
TZOFFSETFROM:-0600
TZOFFSETTO:-0700
TZNAME:MST
DTSTART:20251102T080000
END:STANDARD
BEGIN:DAYLIGHT
TZOFFSETFROM:-0700
TZOFFSETTO:-0600
TZNAME:MDT
DTSTART:20260308T090000
END:DAYLIGHT
BEGIN:STANDARD
TZOFFSETFROM:-0600
TZOFFSETTO:-0700
TZNAME:MST
DTSTART:20261101T080000
END:STANDARD
BEGIN:DAYLIGHT
TZOFFSETFROM:-0700
TZOFFSETTO:-0600
TZNAME:MDT
DTSTART:20270314T090000
END:DAYLIGHT
BEGIN:STANDARD
TZOFFSETFROM:-0600
TZOFFSETTO:-0700
TZNAME:MST
DTSTART:20271107T080000
END:STANDARD
END:VTIMEZONE
BEGIN:VEVENT
DTSTART;TZID=America/Denver:20260330T080000
DTEND;TZID=America/Denver:20260402T170000
DTSTAMP:20260421T101535
CREATED:20251215T175952Z
LAST-MODIFIED:20251215T175956Z
UID:9520-1774857600-1775149200@coloradosbr.org
SUMMARY:Defense Manufacturing Conference 2026
DESCRIPTION:Due to the ongoing federal government shutdown\, the Defense Manufacturing Conference has been postponed to March 30–April 2\, 2026\, at the Caribe Royale Orlando. All paid exhibitor\, sponsor\, and registration fees automatically transfer to the new dates.
URL:https://coloradosbr.org/event/defense-manufacturing-conference-2026/
LOCATION:Colorado
ATTACH;FMTTYPE=image/png:https://coloradosbr.org/wp-content/uploads/2021/04/logocsbr_dark_blue.png
END:VEVENT
BEGIN:VEVENT
DTSTART;TZID=America/Denver:20260401T080000
DTEND;TZID=America/Denver:20260407T170000
DTSTAMP:20260421T101535
CREATED:20260121T010540Z
LAST-MODIFIED:20260302T201218Z
UID:9585-1775030400-1775581200@coloradosbr.org
SUMMARY:Artemis II Launch Window
DESCRIPTION:
URL:https://coloradosbr.org/event/artemis-ii-launch-window/
LOCATION:Colorado
ATTACH;FMTTYPE=image/png:https://coloradosbr.org/wp-content/uploads/2021/04/logocsbr_dark_blue.png
END:VEVENT
END:VCALENDAR