BEGIN:VCALENDAR
VERSION:2.0
PRODID:-//Colorado Space Business Roundtable - ECPv6.15.20//NONSGML v1.0//EN
CALSCALE:GREGORIAN
METHOD:PUBLISH
X-WR-CALNAME:Colorado Space Business Roundtable
X-ORIGINAL-URL:https://coloradosbr.org
X-WR-CALDESC:Events for Colorado Space Business Roundtable
REFRESH-INTERVAL;VALUE=DURATION:PT1H
X-Robots-Tag:noindex
X-PUBLISHED-TTL:PT1H
BEGIN:VTIMEZONE
TZID:America/Denver
BEGIN:DAYLIGHT
TZOFFSETFROM:-0700
TZOFFSETTO:-0600
TZNAME:MDT
DTSTART:20250309T090000
END:DAYLIGHT
BEGIN:STANDARD
TZOFFSETFROM:-0600
TZOFFSETTO:-0700
TZNAME:MST
DTSTART:20251102T080000
END:STANDARD
BEGIN:DAYLIGHT
TZOFFSETFROM:-0700
TZOFFSETTO:-0600
TZNAME:MDT
DTSTART:20260308T090000
END:DAYLIGHT
BEGIN:STANDARD
TZOFFSETFROM:-0600
TZOFFSETTO:-0700
TZNAME:MST
DTSTART:20261101T080000
END:STANDARD
BEGIN:DAYLIGHT
TZOFFSETFROM:-0700
TZOFFSETTO:-0600
TZNAME:MDT
DTSTART:20270314T090000
END:DAYLIGHT
BEGIN:STANDARD
TZOFFSETFROM:-0600
TZOFFSETTO:-0700
TZNAME:MST
DTSTART:20271107T080000
END:STANDARD
END:VTIMEZONE
BEGIN:VEVENT
DTSTART;TZID=America/Denver:20260517T080000
DTEND;TZID=America/Denver:20260521T170000
DTSTAMP:20260421T114808
CREATED:20260206T185101Z
LAST-MODIFIED:20260206T185104Z
UID:9668-1779004800-1779382800@coloradosbr.org
SUMMARY:AsMA/UHMS Annual Scientific Meeting
DESCRIPTION:The primary objective of the joint Aerospace Medical Association and Undersea and Hyperbaric Medical Annual Scientific Meeting is to share and disseminate scientific information across the pressure spectrum from sea to air to space. The meeting content is designed from prior evaluations\, expert opinions\, periodic surveys\, and accepted abstracts. The joint meeting provides the latest results in sessions designed for aerospace\, undersea\, and hyperbaric medicine professionals under ONE roof. The scientific program will benefit physicians\, academics\, residents\, medical and graduate students\, and advanced undergraduates interested in aerospace\, undersea\, and hyperbaric medicine. Professional development and the other core competencies\, as outlined by the American Board of Preventive Medicine and the American Board of Emergency Medicine\, will be highlighted throughout the meeting. Continuing education credits are available for participants. The AsMA and UHMS are international in both membership and scope of interest\, providing opportunities to connect and exchange ideas with some of the world’s foremost medical specialists and internationally renowned scientists in the fields of Aerospace and Undersea and Hyperbaric Medicine and Human Performance. If you are interested in the multi-disciplinary approach to working with humans along the full pressure continuum and challenging environments\, whether as a physician\, physiologist\, researcher\, engineer\, technician\, nurse\, student\, or pilot. You should be one of us!
URL:https://coloradosbr.org/event/asma-uhms-annual-scientific-meeting/
LOCATION:Sheraton Denver Downtown Hotel\, 1550 Court Pl.\, Denver\, Colorado\, 80202\, United States
ATTACH;FMTTYPE=image/png:https://coloradosbr.org/wp-content/uploads/2021/04/logocsbr_dark_blue.png
END:VEVENT
BEGIN:VEVENT
DTSTART;TZID=America/Denver:20260518T080000
DTEND;TZID=America/Denver:20260521T170000
DTSTAMP:20260421T114808
CREATED:20260304T222524Z
LAST-MODIFIED:20260304T222528Z
UID:9822-1779091200-1779382800@coloradosbr.org
SUMMARY:Live Export Compliance Seminar
DESCRIPTION:Export compliance training for U.S. companies to improve competitiveness and reduce risk. \n\n\n\nThe ability to navigate U.S. export regulations is a valuable specialty. Our training programs are designed for new and experienced export compliance professionals at all levels to understand the intricacies of U.S. export regulations and procedures administered by the Departments of State\, Commerce and Treasury.
URL:https://coloradosbr.org/event/live-export-compliance-seminar/
LOCATION:Colorado
ATTACH;FMTTYPE=image/png:https://coloradosbr.org/wp-content/uploads/2021/04/logocsbr_dark_blue.png
END:VEVENT
BEGIN:VEVENT
DTSTART;TZID=America/Denver:20260518T170000
DTEND;TZID=America/Denver:20260521T170000
DTSTAMP:20260421T114808
CREATED:20260217T191235Z
LAST-MODIFIED:20260217T191241Z
UID:9707-1779123600-1779382800@coloradosbr.org
SUMMARY:Citizens for Space Exploration - DC Trip
DESCRIPTION:Citizens for Space Exploration\, a multi-state grassroots space advocacy group\, is organizing its 34th annual trip to D.C. We invite you to join this group of concerned citizens as we meet with members of Congress to inform and educate them about the importance of a robust human space exploration program and a fully funded NASA budget. Tentative Schedule: Monday\, 5/18 5:00 pm – 7:00 pm – Travelers’ Briefing AC Hotel Capitol Hill Navy Yard Tuesday\, 5/19 9:00 am – 5:00 pm – Congressional Office Visits | 5:00 pm – 7:00 pm Congressional Reception\, Rayburn HOB room 2325 Wednesday\, 5/20 9:00 am – 5:00 pm – Congressional Office Visits Thursday\, 5/21 Departure Day  \n\n\n\nThis is a self-funded trip. You are responsible for your travel\, hotel room\, and expenses.
URL:https://coloradosbr.org/event/citizens-for-space-exploration-dc-trip/
LOCATION:Colorado
ATTACH;FMTTYPE=image/png:https://coloradosbr.org/wp-content/uploads/2021/04/logocsbr_dark_blue.png
END:VEVENT
END:VCALENDAR