BEGIN:VCALENDAR
VERSION:2.0
PRODID:-//Colorado Space Business Roundtable - ECPv6.15.20//NONSGML v1.0//EN
CALSCALE:GREGORIAN
METHOD:PUBLISH
X-ORIGINAL-URL:https://coloradosbr.org
X-WR-CALDESC:Events for Colorado Space Business Roundtable
REFRESH-INTERVAL;VALUE=DURATION:PT1H
X-Robots-Tag:noindex
X-PUBLISHED-TTL:PT1H
BEGIN:VTIMEZONE
TZID:America/Denver
BEGIN:DAYLIGHT
TZOFFSETFROM:-0700
TZOFFSETTO:-0600
TZNAME:MDT
DTSTART:20250309T090000
END:DAYLIGHT
BEGIN:STANDARD
TZOFFSETFROM:-0600
TZOFFSETTO:-0700
TZNAME:MST
DTSTART:20251102T080000
END:STANDARD
BEGIN:DAYLIGHT
TZOFFSETFROM:-0700
TZOFFSETTO:-0600
TZNAME:MDT
DTSTART:20260308T090000
END:DAYLIGHT
BEGIN:STANDARD
TZOFFSETFROM:-0600
TZOFFSETTO:-0700
TZNAME:MST
DTSTART:20261101T080000
END:STANDARD
BEGIN:DAYLIGHT
TZOFFSETFROM:-0700
TZOFFSETTO:-0600
TZNAME:MDT
DTSTART:20270314T090000
END:DAYLIGHT
BEGIN:STANDARD
TZOFFSETFROM:-0600
TZOFFSETTO:-0700
TZNAME:MST
DTSTART:20271107T080000
END:STANDARD
END:VTIMEZONE
BEGIN:VEVENT
DTSTART;TZID=America/Denver:20260610T080000
DTEND;TZID=America/Denver:20260612T170000
DTSTAMP:20260421T131837
CREATED:20260206T185440Z
LAST-MODIFIED:20260206T185443Z
UID:9670-1781078400-1781283600@coloradosbr.org
SUMMARY:GlobalMindED 2026
DESCRIPTION:Join national and global inclusive leaders from across the disciplines – early learning\, K-12\, and higher education\, tech\, policy\, foundations/funders\, policy\, and more who are dedicated to creating a capable talent pipeline\, networking\, sharing best practices\, and connecting students to role models\, mentors\, internships\, experiences\, and jobs.
URL:https://coloradosbr.org/event/globalminded-2026/
LOCATION:Sheraton Denver Downtown Hotel\, 1550 Court Pl.\, Denver\, Colorado\, 80202\, United States
ATTACH;FMTTYPE=image/png:https://coloradosbr.org/wp-content/uploads/2021/04/logocsbr_dark_blue.png
END:VEVENT
END:VCALENDAR