BEGIN:VCALENDAR
VERSION:2.0
PRODID:-//Colorado Space Business Roundtable - ECPv6.15.20//NONSGML v1.0//EN
CALSCALE:GREGORIAN
METHOD:PUBLISH
X-WR-CALNAME:Colorado Space Business Roundtable
X-ORIGINAL-URL:https://coloradosbr.org
X-WR-CALDESC:Events for Colorado Space Business Roundtable
REFRESH-INTERVAL;VALUE=DURATION:PT1H
X-Robots-Tag:noindex
X-PUBLISHED-TTL:PT1H
BEGIN:VTIMEZONE
TZID:America/Denver
BEGIN:DAYLIGHT
TZOFFSETFROM:-0700
TZOFFSETTO:-0600
TZNAME:MDT
DTSTART:20250309T090000
END:DAYLIGHT
BEGIN:STANDARD
TZOFFSETFROM:-0600
TZOFFSETTO:-0700
TZNAME:MST
DTSTART:20251102T080000
END:STANDARD
BEGIN:DAYLIGHT
TZOFFSETFROM:-0700
TZOFFSETTO:-0600
TZNAME:MDT
DTSTART:20260308T090000
END:DAYLIGHT
BEGIN:STANDARD
TZOFFSETFROM:-0600
TZOFFSETTO:-0700
TZNAME:MST
DTSTART:20261101T080000
END:STANDARD
BEGIN:DAYLIGHT
TZOFFSETFROM:-0700
TZOFFSETTO:-0600
TZNAME:MDT
DTSTART:20270314T090000
END:DAYLIGHT
BEGIN:STANDARD
TZOFFSETFROM:-0600
TZOFFSETTO:-0700
TZNAME:MST
DTSTART:20271107T080000
END:STANDARD
END:VTIMEZONE
BEGIN:VEVENT
DTSTART;TZID=America/Denver:20260825T061500
DTEND;TZID=America/Denver:20260825T150000
DTSTAMP:20260421T162833
CREATED:20260316T210748Z
LAST-MODIFIED:20260316T210751Z
UID:9888-1787638500-1787670000@coloradosbr.org
SUMMARY:NDIA IMAGE Golf Tournament
DESCRIPTION:NDIA IMAGE Golf Tournament benefitting STEM activities for local middle/high school and college students hosted by our Colorado Springs local chapters of NDIA\, AFA\, SFA\, & AFCEA. August 25\, 2026 from 6:15am – 3pm at the Eisenhower Golf Course\, USAFA. 
URL:https://coloradosbr.org/event/ndia-image-golf-tournament/
LOCATION:Eisenhower Golf Course\, 123 Golf Dr\, Air Force Academy\, Colorado\, 80840\, United States
ATTACH;FMTTYPE=image/png:https://coloradosbr.org/wp-content/uploads/2021/04/logocsbr_dark_blue.png
END:VEVENT
END:VCALENDAR