BEGIN:VCALENDAR
VERSION:2.0
PRODID:-//Colorado Space Business Roundtable - ECPv6.15.20//NONSGML v1.0//EN
CALSCALE:GREGORIAN
METHOD:PUBLISH
X-WR-CALNAME:Colorado Space Business Roundtable
X-ORIGINAL-URL:https://coloradosbr.org
X-WR-CALDESC:Events for Colorado Space Business Roundtable
REFRESH-INTERVAL;VALUE=DURATION:PT1H
X-Robots-Tag:noindex
X-PUBLISHED-TTL:PT1H
BEGIN:VTIMEZONE
TZID:America/Denver
BEGIN:DAYLIGHT
TZOFFSETFROM:-0700
TZOFFSETTO:-0600
TZNAME:MDT
DTSTART:20250309T090000
END:DAYLIGHT
BEGIN:STANDARD
TZOFFSETFROM:-0600
TZOFFSETTO:-0700
TZNAME:MST
DTSTART:20251102T080000
END:STANDARD
BEGIN:DAYLIGHT
TZOFFSETFROM:-0700
TZOFFSETTO:-0600
TZNAME:MDT
DTSTART:20260308T090000
END:DAYLIGHT
BEGIN:STANDARD
TZOFFSETFROM:-0600
TZOFFSETTO:-0700
TZNAME:MST
DTSTART:20261101T080000
END:STANDARD
BEGIN:DAYLIGHT
TZOFFSETFROM:-0700
TZOFFSETTO:-0600
TZNAME:MDT
DTSTART:20270314T090000
END:DAYLIGHT
BEGIN:STANDARD
TZOFFSETFROM:-0600
TZOFFSETTO:-0700
TZNAME:MST
DTSTART:20271107T080000
END:STANDARD
END:VTIMEZONE
BEGIN:VEVENT
DTSTART;TZID=America/Denver:20260513T080000
DTEND;TZID=America/Denver:20260516T170000
DTSTAMP:20260421T151957
CREATED:20251215T180245Z
LAST-MODIFIED:20251215T180250Z
UID:9522-1778659200-1778950800@coloradosbr.org
SUMMARY:Bid and Proposal Conference 2026 (BPC 26)
DESCRIPTION:The world’s most dynamic profession is evolving fast\, and APMP’s Bid & Proposal Conference (BPC) is where the best come together to stay ahead. BPC Denver delivers the insights\, strategies\, and connections you need to win more\, work smarter\, and grow your career in capture\, proposals\, business development\, and beyond.
URL:https://coloradosbr.org/event/bid-and-proposal-conference-2026-bpc-26/
LOCATION:Gaylord Rockies Resort and Convention Center\, 6700 N Gaylord Rockies Blvd\, Aurora\, Colorado\, 80019
ATTACH;FMTTYPE=image/png:https://coloradosbr.org/wp-content/uploads/2021/04/logocsbr_dark_blue.png
END:VEVENT
BEGIN:VEVENT
DTSTART;TZID=America/Denver:20260513T080000
DTEND;TZID=America/Denver:20260513T090000
DTSTAMP:20260421T151957
CREATED:20260317T155704Z
LAST-MODIFIED:20260317T155707Z
UID:9900-1778659200-1778662800@coloradosbr.org
SUMMARY:CSBR May Community Connector
DESCRIPTION:Join us for our next virtual CSBR Community Connector! We will start with a New Member Orientation from 8:00 to 8:30 AM\, followed by Topic Sessions from 8:30 to 9:00 AM for all new members\, current members\, and anyone interested in getting more involved. \n\n\n\nAs our community continues to grow\, we are committed to staying connected and engaged. CSBR brings together organizations and individuals across Colorado aerospace\, from startups to established companies\, government and academia. \n\n\n\nConnecting and Advancing Colorado Aerospace!
URL:https://coloradosbr.org/event/csbr-may-community-connector/
LOCATION:Colorado
ATTACH;FMTTYPE=image/png:https://coloradosbr.org/wp-content/uploads/2021/04/logocsbr_dark_blue.png
END:VEVENT
BEGIN:VEVENT
DTSTART;TZID=America/Denver:20260510T070000
DTEND;TZID=America/Denver:20260510T110000
DTSTAMP:20260421T151957
CREATED:20260302T200753Z
LAST-MODIFIED:20260304T222408Z
UID:9785-1778396400-1778410800@coloradosbr.org
SUMMARY:Wings Over the Rockies Space Race 5K
DESCRIPTION:The Wings Space Race 5K invites you to push past your limits and chase the stars into an experience that’s truly out of this world!  \n\n\n\nJoin us for an all-ages run and walk benefiting Wings Over the Rockies Air & Space Museum. This space-themed event invites participants of all fitness levels—whether you’re a seasoned runner\, a casual walker\, or a tiny astronaut in training—to come together in support of aviation and space exploration education. We promise a community atmosphere that celebrates curiosity\, innovation\, and movement. Costumes are encouraged\, so suit up as an astronaut\, alien\, or space explorer and make your run even more memorable! Every step you take helps support Wings Over the Rockies’ mission to inspire and educate future generations through aviation and space programs. Whether you’re chasing a new personal best or simply enjoying the journey\, this is a race where everyone can reach for the stars. \n\n\n\nSponsorship and tabling opportunities are also available for the fundraiser. Please contact Chris Watson at cwatson@wingsmuseum.org for more information. \n\n\n\nClick here to join our CSBR Team!
URL:https://coloradosbr.org/event/wings-over-the-rockies-space-race-5k/
LOCATION:Wings Over the Rockies Air & Space Museum\, 7711 E Academy Blvd\, Denver\, Colorado\, 80230\, United States
ATTACH;FMTTYPE=image/png:https://coloradosbr.org/wp-content/uploads/2021/04/logocsbr_dark_blue.png
END:VEVENT
BEGIN:VEVENT
DTSTART;TZID=America/Denver:20260502T100000
DTEND;TZID=America/Denver:20260502T160000
DTSTAMP:20260421T151957
CREATED:20260406T195842Z
LAST-MODIFIED:20260406T195845Z
UID:10036-1777716000-1777737600@coloradosbr.org
SUMMARY:National Space Day Community Event
DESCRIPTION:The National Space Day Community Event celebrates innovation\, exploration\, and U.S. space achievements with activities for all ages in Colorado Springs.
URL:https://coloradosbr.org/event/national-space-day-community-event/
LOCATION:Colorado
ATTACH;FMTTYPE=image/png:https://coloradosbr.org/wp-content/uploads/2021/04/logocsbr_dark_blue.png
END:VEVENT
BEGIN:VEVENT
DTSTART;TZID=America/Denver:20260501T080000
DTEND;TZID=America/Denver:20260501T170000
DTSTAMP:20260421T151957
CREATED:20260317T214642Z
LAST-MODIFIED:20260317T214644Z
UID:9915-1777622400-1777654800@coloradosbr.org
SUMMARY:150 Tables Across Colorado
DESCRIPTION:Celebrating 150 years of our Centennial State\, we are inviting individuals\, organizations and cities across the state to set a long table between May and November 2026\, bringing people from all walks of life together to share a meal\, spark connection\, and create a Colorado where everyone feels like they belong. \n\n\n\nNote: This event begins in May and is ongoing through November 2026.
URL:https://coloradosbr.org/event/150-tables-across-colorado/
LOCATION:Colorado
ATTACH;FMTTYPE=image/png:https://coloradosbr.org/wp-content/uploads/2021/04/logocsbr_dark_blue.png
END:VEVENT
BEGIN:VEVENT
DTSTART;TZID=America/Denver:20260417T080000
DTEND;TZID=America/Denver:20260418T170000
DTSTAMP:20260421T151957
CREATED:20260317T204707Z
LAST-MODIFIED:20260317T204709Z
UID:9913-1776412800-1776531600@coloradosbr.org
SUMMARY:Club 20 Spring Conference
DESCRIPTION:Grand Junction Convention Center\,Grand Junction\, Co
URL:https://coloradosbr.org/event/club-20-spring-conference/
LOCATION:Colorado
ATTACH;FMTTYPE=image/png:https://coloradosbr.org/wp-content/uploads/2021/04/logocsbr_dark_blue.png
END:VEVENT
BEGIN:VEVENT
DTSTART;TZID=America/Denver:20260414T070000
DTEND;TZID=America/Denver:20260414T080000
DTSTAMP:20260421T151957
CREATED:20260316T210134Z
LAST-MODIFIED:20260316T210137Z
UID:9884-1776150000-1776153600@coloradosbr.org
SUMMARY:NDIA Space Division Breakfast
DESCRIPTION:Join members of the community at 7:00 am MT on Tuesday\, April 14\, 2026\, for the Space Division Breakfast. \n\n\n\nSpace is limited\, so register today. \n\n\n\nDo not miss the opportunity to interface with the aerospace industry leaders and partners who directly support the Space program.  \n\n\n\nNOTE: This event is closed to the press and operates under Chatham House Rules.
URL:https://coloradosbr.org/event/ndia-space-division-breakfast/
LOCATION:DoubleTree by Hilton Hotel – Cheyenne Mountain\, 1775 E Cheyenne Mountain Blvd\, Colorado Springs\, Colorado\, 80906\, United States
ATTACH;FMTTYPE=image/png:https://coloradosbr.org/wp-content/uploads/2021/04/logocsbr_dark_blue.png
END:VEVENT
BEGIN:VEVENT
DTSTART;TZID=America/Denver:20260413T080000
DTEND;TZID=America/Denver:20260416T170000
DTSTAMP:20260421T151957
CREATED:20251211T191248Z
LAST-MODIFIED:20251211T191339Z
UID:9460-1776067200-1776358800@coloradosbr.org
SUMMARY:41st Space Symposium
DESCRIPTION:Building Capacity Through Innovation and Collaboration \n\n\n\nSpace Symposium is the premier event uniting global space professionals from all sectors\, providing a unique platform to explore critical space issues\, foster dialogue\, and drive innovation across the space industry. With hundreds of exhibitors and speakers confirmed\, join thousands of top space professionals attending Space Symposium and sign up today.
URL:https://coloradosbr.org/event/41st-space-symposium/
LOCATION:The Broadmoor\, 1 Lake Avenue\, Colorado Springs\, CO 80906\, United States
ATTACH;FMTTYPE=image/png:https://coloradosbr.org/wp-content/uploads/2021/04/logocsbr_dark_blue.png
END:VEVENT
BEGIN:VEVENT
DTSTART;TZID=America/Denver:20260408T120000
DTEND;TZID=America/Denver:20260408T133000
DTSTAMP:20260421T151957
CREATED:20260317T203127Z
LAST-MODIFIED:20260317T203130Z
UID:9906-1775649600-1775655000@coloradosbr.org
SUMMARY:Aerospace and Defense Caucus Meeting – Lunar Architecture
DESCRIPTION:Colorado State Capitol Building \n\n\n\nHouse Committee Room 0109 \n\n\n\n200 East Colfax Ave.  \n\n\n\nDenver\, CO 80203
URL:https://coloradosbr.org/event/aerospace-and-defense-caucus-meeting-lunar-architecture/
LOCATION:Colorado State Capitol\, 200 East Colfax Ave\, Denver\, Colorado\, 80203\, United States
ATTACH;FMTTYPE=image/png:https://coloradosbr.org/wp-content/uploads/2021/04/logocsbr_dark_blue.png
END:VEVENT
BEGIN:VEVENT
DTSTART;TZID=America/Denver:20260408T080000
DTEND;TZID=America/Denver:20260408T090000
DTSTAMP:20260421T151957
CREATED:20260217T201320Z
LAST-MODIFIED:20260217T201323Z
UID:9713-1775635200-1775638800@coloradosbr.org
SUMMARY:CSBR April Community Connector
DESCRIPTION:Join us for our next virtual CSBR Community Connector! We will start with a New Member Orientation from 8:00 to 8:30 AM\, followed by Topic Sessions from 8:30 to 9:00 AM for all new members\, current members\, and anyone interested in getting more involved. \n\n\n\nAs our community continues to grow\, we are committed to staying connected and engaged. CSBR brings together organizations and individuals across Colorado aerospace\, from startups to established companies\, government and academia. \n\n\n\nConnecting and Advancing Colorado Aerospace!
URL:https://coloradosbr.org/event/csbr-april-community-connector/
LOCATION:Colorado
ATTACH;FMTTYPE=image/png:https://coloradosbr.org/wp-content/uploads/2021/04/logocsbr_dark_blue.png
END:VEVENT
BEGIN:VEVENT
DTSTART;TZID=America/Denver:20260407T170000
DTEND;TZID=America/Denver:20260407T190000
DTSTAMP:20260421T151957
CREATED:20260325T162259Z
LAST-MODIFIED:20260325T162304Z
UID:9931-1775581200-1775588400@coloradosbr.org
SUMMARY:Northern Colorado Defense & Aerospace Group Networking
DESCRIPTION:The next Northern Colorado Defense and Aerospace Networking Event will be April 7th in Longmont. Thank you to Vergent Products and Brian Zonnefeld for hosting. RSVP below and we’ll see you there!
URL:https://coloradosbr.org/event/northern-colorado-defense-aerospace-group-networking/
LOCATION:Redzone at Pumphouse Brewery\, 540 Main Street\, Longmont\, Colorado\, 80501\, United States
ATTACH;FMTTYPE=image/png:https://coloradosbr.org/wp-content/uploads/2021/04/logocsbr_dark_blue.png
END:VEVENT
BEGIN:VEVENT
DTSTART;TZID=America/Denver:20260401T080000
DTEND;TZID=America/Denver:20260407T170000
DTSTAMP:20260421T151957
CREATED:20260121T010540Z
LAST-MODIFIED:20260302T201218Z
UID:9585-1775030400-1775581200@coloradosbr.org
SUMMARY:Artemis II Launch Window
DESCRIPTION:
URL:https://coloradosbr.org/event/artemis-ii-launch-window/
LOCATION:Colorado
ATTACH;FMTTYPE=image/png:https://coloradosbr.org/wp-content/uploads/2021/04/logocsbr_dark_blue.png
END:VEVENT
BEGIN:VEVENT
DTSTART;TZID=America/Denver:20260330T080000
DTEND;TZID=America/Denver:20260402T170000
DTSTAMP:20260421T151957
CREATED:20251215T175952Z
LAST-MODIFIED:20251215T175956Z
UID:9520-1774857600-1775149200@coloradosbr.org
SUMMARY:Defense Manufacturing Conference 2026
DESCRIPTION:Due to the ongoing federal government shutdown\, the Defense Manufacturing Conference has been postponed to March 30–April 2\, 2026\, at the Caribe Royale Orlando. All paid exhibitor\, sponsor\, and registration fees automatically transfer to the new dates.
URL:https://coloradosbr.org/event/defense-manufacturing-conference-2026/
LOCATION:Colorado
ATTACH;FMTTYPE=image/png:https://coloradosbr.org/wp-content/uploads/2021/04/logocsbr_dark_blue.png
END:VEVENT
BEGIN:VEVENT
DTSTART;TZID=America/Denver:20260218T120000
DTEND;TZID=America/Denver:20260218T133000
DTSTAMP:20260421T151957
CREATED:20260204T175611Z
LAST-MODIFIED:20260217T191439Z
UID:9624-1771416000-1771421400@coloradosbr.org
SUMMARY:Aerospace and Defense Caucus Meeting
DESCRIPTION:
URL:https://coloradosbr.org/event/aerospace-and-defense-caucus-meeting/
LOCATION:Colorado
ATTACH;FMTTYPE=image/png:https://coloradosbr.org/wp-content/uploads/2021/04/logocsbr_dark_blue.png
END:VEVENT
END:VCALENDAR